View In:
ArcGIS JavaScript
ArcGIS Online Map Viewer
ArcGIS Earth
Service Description: Basemaps/2015_Aerial_Photo
Name: Basemaps/2015_Aerial_Photo
Description:
Single Fused Map Cache: false
Extent:
XMin: 590785.4780015978
YMin: 522068.7535674507
XMax: 672299.4565859605
YMax: 596571.7769983748
Spatial Reference: 7645
(7645)
VCSWkid(105703)
LatestVCSWkid(6360)
Initial Extent:
XMin: 590785.4780015978
YMin: 522068.7535674507
XMax: 672299.4565859605
YMax: 596571.7769983748
Spatial Reference: 7645
(7645)
VCSWkid(105703)
LatestVCSWkid(6360)
Full Extent:
XMin: 590785.4780015978
YMin: 522068.7535674507
XMax: 672299.4565859605
YMax: 596571.7769983748
Spatial Reference: 7645
(7645)
VCSWkid(105703)
LatestVCSWkid(6360)
Pixel Size X: 0.4999968017000819
Pixel Size Y: 0.4999968017000823
Band Count: 3
Pixel Type: U8
RasterFunction Infos: {"rasterFunctionInfos": [{
"name": "None",
"description": "",
"help": ""
}]}
Mensuration Capabilities: Basic
Inspection Capabilities:
Has Histograms: true
Has Colormap: false
Has Multi Dimensions : false
Rendering Rule:
Min Scale: 0
Max Scale: 0
Resampling: false
Copyright Text:
Service Data Type: esriImageServiceDataTypeRGB
Min Values: 25, 26, 16
Max Values: 255, 255, 255
Mean Values: 162.79452054795, 155.97945205479, 147.96952054795
Standard Deviation Values: 66.339942080025, 70.340007826767, 75.019890712463
Object ID Field:
Fields:
None
Default Mosaic Method: Center
Allowed Mosaic Methods:
SortField:
SortValue: null
Mosaic Operator: First
Default Compression Quality: 75
Default Resampling Method: Bilinear
Max Record Count: null
Max Image Height: 4100
Max Image Width: 15000
Max Download Image Count: null
Max Mosaic Image Count: null
Allow Raster Function: true
Allow Copy: true
Allow Analysis: true
Allow Compute TiePoints: false
Supports Statistics: false
Supports Advanced Queries: false
Use StandardizedQueries: true
Raster Type Infos:
Name: Raster Dataset
Description: Supports all ArcGIS Raster Datasets
Help:
Has Raster Attribute Table: false
Edit Fields Info: null
Ownership Based AccessControl For Rasters: null
Child Resources:
Info
Histograms
Statistics
Key Properties
Legend
Raster Function Infos
Supported Operations:
Export Image
Identify
Measure
Compute Histograms
Compute Statistics Histograms
Get Samples
Compute Class Statistics
Query Boundary
Compute Pixel Location
Compute Angles
Validate
Project