{
 "currentVersion": 11.3,
 "serviceDescription": "Basemaps/2015_Aerial_Photo",
 "name": "Basemaps/2015_Aerial_Photo",
 "description": "",
 "extent": {
  "xmin": 590785.4780015978,
  "ymin": 522068.7535674507,
  "xmax": 672299.4565859605,
  "ymax": 596571.7769983748,
  "spatialReference": {
   "wkid": 7645,
   "latestWkid": 7645,
   "vcsWkid": 105703,
   "latestVcsWkid": 6360
  }
 },
 "initialExtent": {
  "xmin": 590785.4780015978,
  "ymin": 522068.7535674507,
  "xmax": 672299.4565859605,
  "ymax": 596571.7769983748,
  "spatialReference": {
   "wkid": 7645,
   "latestWkid": 7645,
   "vcsWkid": 105703,
   "latestVcsWkid": 6360
  }
 },
 "fullExtent": {
  "xmin": 590785.4780015978,
  "ymin": 522068.7535674507,
  "xmax": 672299.4565859605,
  "ymax": 596571.7769983748,
  "spatialReference": {
   "wkid": 7645,
   "latestWkid": 7645,
   "vcsWkid": 105703,
   "latestVcsWkid": 6360
  }
 },
 "sortableFields": "",
 "heightModelInfo": {
  "heightModel": "gravity_related_height",
  "vertCRS": "NAVD88_height_(ftUS)",
  "heightUnit": "us-foot"
 },
 "bandCount": 3,
 "pixelType": "U8",
 "minValues": [
  25,
  26,
  16
 ],
 "maxValues": [
  255,
  255,
  255
 ],
 "meanValues": [
  162.79452054795,
  155.97945205479,
  147.96952054795
 ],
 "stdvValues": [
  66.339942080025,
  70.340007826767,
  75.019890712463
 ],
 "hasMultidimensions": false,
 "pixelSizeX": 0.4999968017000819,
 "pixelSizeY": 0.4999968017000823,
 "meanPixelSize": 0.15239932995684496,
 "datasetFormat": "MrSID",
 "uncompressedSize": 72877386609,
 "blockWidth": 1024,
 "blockHeight": 128,
 "compressionType": "Wavelet (MG3)",
 "bandNames": [
  "Band_1",
  "Band_2",
  "Band_3"
 ],
 "allowCopy": true,
 "allowAnalysis": true,
 "itemAccess": false,
 "inspectionCapabilities": "",
 "minPixelSize": 0,
 "maxPixelSize": 0,
 "copyrightText": "",
 "serviceDataType": "esriImageServiceDataTypeRGB",
 "serviceSourceType": "esriImageServiceSourceTypeDataset",
 "objectIdField": "",
 "fields": [],
 "capabilities": "Mensuration,Image,Metadata",
 "defaultMosaicMethod": "Center",
 "allowedMosaicMethods": "",
 "sortField": "",
 "sortValue": null,
 "sortAscending": true,
 "mosaicOperator": "First",
 "defaultCompressionQuality": 75,
 "defaultResamplingMethod": "Bilinear",
 "maxImageHeight": 4100,
 "maxImageWidth": 15000,
 "allowRasterFunction": true,
 "rasterFunctionInfos": [
  {
   "name": "None",
   "description": "",
   "help": ""
  }
 ],
 "rasterTypeInfos": [
  {
   "name": "Raster Dataset",
   "description": "Supports all ArcGIS Raster Datasets",
   "help": ""
  }
 ],
 "mensurationCapabilities": "Basic",
 "hasHistograms": true,
 "hasColormap": false,
 "hasRasterAttributeTable": false,
 "minScale": 0,
 "maxScale": 0,
 "exportTilesAllowed": false,
 "supportsStatistics": false,
 "supportsAdvancedQueries": false,
 "editFieldsInfo": null,
 "ownershipBasedAccessControlForRasters": null,
 "allowComputeTiePoints": false,
 "useStandardizedQueries": true,
 "advancedQueryCapabilities": {
  "useStandardizedQueries": true,
  "supportsStatistics": false,
  "supportsOrderBy": false,
  "supportsDistinct": false,
  "supportsPagination": false
 },
 "spatialReference": {
  "wkid": 7645,
  "latestWkid": 7645,
  "vcsWkid": 105703,
  "latestVcsWkid": 6360
 },
 "resampling": false
}
