View In:
ArcGIS JavaScript
ArcGIS Online Map Viewer
ArcGIS Earth
Service Description: Basemaps/2008_Aerial_Photo
Name: Basemaps/2008_Aerial_Photo
Description:
Single Fused Map Cache: false
Extent:
XMin: 591003.76
YMin: 522103.757
XMax: 670036.76
YMax: 593578.757
Spatial Reference: 7645
(7645)
VCSWkid(105703)
LatestVCSWkid(6360)
Initial Extent:
XMin: 591003.76
YMin: 522103.757
XMax: 670036.76
YMax: 593578.757
Spatial Reference: 7645
(7645)
VCSWkid(105703)
LatestVCSWkid(6360)
Full Extent:
XMin: 591003.76
YMin: 522103.757
XMax: 670036.76
YMax: 593578.757
Spatial Reference: 7645
(7645)
VCSWkid(105703)
LatestVCSWkid(6360)
Pixel Size X: 0.5
Pixel Size Y: 0.5
Band Count: 3
Pixel Type: U8
RasterFunction Infos: {"rasterFunctionInfos": [{
"name": "None",
"description": "",
"help": ""
}]}
Mensuration Capabilities: Basic
Inspection Capabilities:
Has Histograms: true
Has Colormap: false
Has Multi Dimensions : false
Rendering Rule:
Min Scale: 0
Max Scale: 0
Resampling: false
Copyright Text:
Service Data Type: esriImageServiceDataTypeRGB
Min Values: 33, 34, 59
Max Values: 255, 255, 255
Mean Values: 180.7043956044, 177.66318681319, 172.55311355311
Standard Deviation Values: 60.129595838464, 61.732534272022, 65.217547467164
Object ID Field:
Fields:
None
Default Mosaic Method: Center
Allowed Mosaic Methods:
SortField:
SortValue: null
Mosaic Operator: First
Default Compression Quality: 75
Default Resampling Method: Bilinear
Max Record Count: null
Max Image Height: 4100
Max Image Width: 15000
Max Download Image Count: null
Max Mosaic Image Count: null
Allow Raster Function: true
Allow Copy: true
Allow Analysis: true
Allow Compute TiePoints: false
Supports Statistics: false
Supports Advanced Queries: false
Use StandardizedQueries: true
Raster Type Infos:
Name: Raster Dataset
Description: Supports all ArcGIS Raster Datasets
Help:
Has Raster Attribute Table: false
Edit Fields Info: null
Ownership Based AccessControl For Rasters: null
Child Resources:
Info
Histograms
Statistics
Key Properties
Legend
Raster Function Infos
Supported Operations:
Export Image
Identify
Measure
Compute Histograms
Compute Statistics Histograms
Get Samples
Compute Class Statistics
Query Boundary
Compute Pixel Location
Compute Angles
Validate
Project