{
 "currentVersion": 11.3,
 "serviceDescription": "Basemaps/2008_Aerial_Photo",
 "name": "Basemaps/2008_Aerial_Photo",
 "description": "",
 "extent": {
  "xmin": 591003.76,
  "ymin": 522103.757,
  "xmax": 670036.76,
  "ymax": 593578.757,
  "spatialReference": {
   "wkid": 7645,
   "latestWkid": 7645,
   "vcsWkid": 105703,
   "latestVcsWkid": 6360
  }
 },
 "initialExtent": {
  "xmin": 591003.76,
  "ymin": 522103.757,
  "xmax": 670036.76,
  "ymax": 593578.757,
  "spatialReference": {
   "wkid": 7645,
   "latestWkid": 7645,
   "vcsWkid": 105703,
   "latestVcsWkid": 6360
  }
 },
 "fullExtent": {
  "xmin": 591003.76,
  "ymin": 522103.757,
  "xmax": 670036.76,
  "ymax": 593578.757,
  "spatialReference": {
   "wkid": 7645,
   "latestWkid": 7645,
   "vcsWkid": 105703,
   "latestVcsWkid": 6360
  }
 },
 "sortableFields": "",
 "heightModelInfo": {
  "heightModel": "gravity_related_height",
  "vertCRS": "NAVD88_height_(ftUS)",
  "heightUnit": "us-foot"
 },
 "bandCount": 3,
 "pixelType": "U8",
 "minValues": [
  33,
  34,
  59
 ],
 "maxValues": [
  255,
  255,
  255
 ],
 "meanValues": [
  180.7043956044,
  177.66318681319,
  172.55311355311
 ],
 "stdvValues": [
  60.129595838464,
  61.732534272022,
  65.217547467164
 ],
 "hasMultidimensions": false,
 "pixelSizeX": 0.5,
 "pixelSizeY": 0.5,
 "meanPixelSize": 0.15240030480060962,
 "datasetFormat": "MrSID",
 "uncompressedSize": 67786604100,
 "blockWidth": 1024,
 "blockHeight": 128,
 "compressionType": "Wavelet (MG3)",
 "bandNames": [
  "Band_1",
  "Band_2",
  "Band_3"
 ],
 "allowCopy": true,
 "allowAnalysis": true,
 "itemAccess": false,
 "inspectionCapabilities": "",
 "minPixelSize": 0,
 "maxPixelSize": 0,
 "copyrightText": "",
 "serviceDataType": "esriImageServiceDataTypeRGB",
 "serviceSourceType": "esriImageServiceSourceTypeDataset",
 "objectIdField": "",
 "fields": [],
 "capabilities": "Mensuration,Image,Metadata",
 "defaultMosaicMethod": "Center",
 "allowedMosaicMethods": "",
 "sortField": "",
 "sortValue": null,
 "sortAscending": true,
 "mosaicOperator": "First",
 "defaultCompressionQuality": 75,
 "defaultResamplingMethod": "Bilinear",
 "maxImageHeight": 4100,
 "maxImageWidth": 15000,
 "allowRasterFunction": true,
 "rasterFunctionInfos": [
  {
   "name": "None",
   "description": "",
   "help": ""
  }
 ],
 "rasterTypeInfos": [
  {
   "name": "Raster Dataset",
   "description": "Supports all ArcGIS Raster Datasets",
   "help": ""
  }
 ],
 "mensurationCapabilities": "Basic",
 "hasHistograms": true,
 "hasColormap": false,
 "hasRasterAttributeTable": false,
 "minScale": 0,
 "maxScale": 0,
 "exportTilesAllowed": false,
 "supportsStatistics": false,
 "supportsAdvancedQueries": false,
 "editFieldsInfo": null,
 "ownershipBasedAccessControlForRasters": null,
 "allowComputeTiePoints": false,
 "useStandardizedQueries": true,
 "advancedQueryCapabilities": {
  "useStandardizedQueries": true,
  "supportsStatistics": false,
  "supportsOrderBy": false,
  "supportsDistinct": false,
  "supportsPagination": false
 },
 "spatialReference": {
  "wkid": 7645,
  "latestWkid": 7645,
  "vcsWkid": 105703,
  "latestVcsWkid": 6360
 },
 "resampling": false
}
