View In:
ArcGIS JavaScript
ArcGIS Online Map Viewer
ArcGIS Earth
Service Description: Basemaps/2002_Aerial_Photo
Name: Basemaps/2002_Aerial_Photo
Description:
Single Fused Map Cache: false
Extent:
XMin: 623335.898
YMin: 533279.573
XMax: 653081.398
YMax: 568535.073
Spatial Reference: 7645
(7645)
VCSWkid(105703)
LatestVCSWkid(6360)
Initial Extent:
XMin: 623335.898
YMin: 533279.573
XMax: 653081.398
YMax: 568535.073
Spatial Reference: 7645
(7645)
VCSWkid(105703)
LatestVCSWkid(6360)
Full Extent:
XMin: 623335.898
YMin: 533279.573
XMax: 653081.398
YMax: 568535.073
Spatial Reference: 7645
(7645)
VCSWkid(105703)
LatestVCSWkid(6360)
Pixel Size X: 0.5
Pixel Size Y: 0.5
Band Count: 3
Pixel Type: U8
RasterFunction Infos: {"rasterFunctionInfos": [{
"name": "None",
"description": "",
"help": ""
}]}
Mensuration Capabilities:
Inspection Capabilities:
Has Histograms: true
Has Colormap: false
Has Multi Dimensions : false
Rendering Rule:
Min Scale: 0
Max Scale: 0
Resampling: false
Copyright Text:
Service Data Type: esriImageServiceDataTypeRGB
Min Values: 0, 0, 0
Max Values: 202, 201, 184
Mean Values: 126.14282175152, 119.55035302861, 88.419175027871
Standard Deviation Values: 34.36036956251, 32.16391805058, 25.999408066959
Object ID Field:
Fields:
None
Default Mosaic Method: Center
Allowed Mosaic Methods:
SortField:
SortValue: null
Mosaic Operator: First
Default Compression Quality: 75
Default Resampling Method: Bilinear
Max Record Count: null
Max Image Height: 4100
Max Image Width: 15000
Max Download Image Count: null
Max Mosaic Image Count: null
Allow Raster Function: true
Allow Copy: true
Allow Analysis: true
Allow Compute TiePoints: false
Supports Statistics: false
Supports Advanced Queries: false
Use StandardizedQueries: true
Raster Type Infos:
Name: Raster Dataset
Description: Supports all ArcGIS Raster Datasets
Help:
Has Raster Attribute Table: false
Edit Fields Info: null
Ownership Based AccessControl For Rasters: null
Child Resources:
Info
Histograms
Statistics
Key Properties
Legend
Raster Function Infos
Supported Operations:
Export Image
Identify
Compute Histograms
Compute Statistics Histograms
Get Samples
Compute Class Statistics
Query Boundary
Compute Pixel Location
Compute Angles
Validate
Project